BEGIN:VCALENDAR
VERSION:2.0
PRODID:-//Jean Miannay - ECPv6.2.9//NONSGML v1.0//EN
CALSCALE:GREGORIAN
METHOD:PUBLISH
X-WR-CALNAME:Jean Miannay
X-ORIGINAL-URL:https://www.jeanmiannay.com
X-WR-CALDESC:évènements pour Jean Miannay
REFRESH-INTERVAL;VALUE=DURATION:PT1H
X-Robots-Tag:noindex
X-PUBLISHED-TTL:PT1H
BEGIN:VTIMEZONE
TZID:Europe/Zurich
BEGIN:DAYLIGHT
TZOFFSETFROM:+0100
TZOFFSETTO:+0200
TZNAME:CEST
DTSTART:20260329T010000
END:DAYLIGHT
BEGIN:STANDARD
TZOFFSETFROM:+0200
TZOFFSETTO:+0100
TZNAME:CET
DTSTART:20261025T010000
END:STANDARD
END:VTIMEZONE
BEGIN:VEVENT
DTSTART;VALUE=DATE:20260522
DTEND;VALUE=DATE:20260523
DTSTAMP:20260421T133634
CREATED:20260222T165649Z
LAST-MODIFIED:20260222T165649Z
UID:29502-1779408000-1779494399@www.jeanmiannay.com
SUMMARY:Lucia di Lammermoor-Donizetti (Normanno)
DESCRIPTION:
URL:https://www.jeanmiannay.com/event/lucia-di-lammermoor-donizetti-normanno-13/
LOCATION:Opéra de Massy
END:VEVENT
BEGIN:VEVENT
DTSTART;VALUE=DATE:20260524
DTEND;VALUE=DATE:20260525
DTSTAMP:20260421T133634
CREATED:20260222T165719Z
LAST-MODIFIED:20260222T165719Z
UID:29505-1779580800-1779667199@www.jeanmiannay.com
SUMMARY:Lucia di Lammermoor-Donizetti (Normanno)
DESCRIPTION:
URL:https://www.jeanmiannay.com/event/lucia-di-lammermoor-donizetti-normanno-14/
LOCATION:Opéra de Massy
END:VEVENT
BEGIN:VEVENT
DTSTART;VALUE=DATE:20260530
DTEND;VALUE=DATE:20260531
DTSTAMP:20260421T133634
CREATED:20260222T165813Z
LAST-MODIFIED:20260222T165813Z
UID:29507-1780099200-1780185599@www.jeanmiannay.com
SUMMARY:Lucia di Lammermoor-Donizetti (Normanno)
DESCRIPTION:
URL:https://www.jeanmiannay.com/event/lucia-di-lammermoor-donizetti-normanno-15/
LOCATION:Théâtre Impérial de Compiègne
END:VEVENT
BEGIN:VEVENT
DTSTART;VALUE=DATE:20260705
DTEND;VALUE=DATE:20260706
DTSTAMP:20260421T133634
CREATED:20260222T170049Z
LAST-MODIFIED:20260222T170049Z
UID:29513-1783209600-1783295999@www.jeanmiannay.com
SUMMARY:Récital Piano-Chant-Guitare avec Ayaka Niwano
DESCRIPTION:
URL:https://www.jeanmiannay.com/event/recital-piano-chant-guitare-avec-ayaka-niwano/
LOCATION:Festival Volcadiva CHAMALIÈRES
END:VEVENT
BEGIN:VEVENT
DTSTART;VALUE=DATE:20260725
DTEND;VALUE=DATE:20260726
DTSTAMP:20260421T133634
CREATED:20260222T170201Z
LAST-MODIFIED:20260222T170201Z
UID:29516-1784937600-1785023999@www.jeanmiannay.com
SUMMARY:Les Pêcheurs de Perles-Bizet (NADIR)
DESCRIPTION:
URL:https://www.jeanmiannay.com/event/les-pecheurs-de-perles-bizet-nadir/
LOCATION:Nuits Lyriques: Gujan-Mestras
END:VEVENT
BEGIN:VEVENT
DTSTART;VALUE=DATE:20260821
DTEND;VALUE=DATE:20260822
DTSTAMP:20260421T133634
CREATED:20260222T170242Z
LAST-MODIFIED:20260222T170242Z
UID:29519-1787270400-1787356799@www.jeanmiannay.com
SUMMARY:Les Pêcheurs de Perles-Bizet (NADIR)
DESCRIPTION:
URL:https://www.jeanmiannay.com/event/les-pecheurs-de-perles-bizet-nadir-2/
LOCATION:Théâtre Comœdia MARMANDE
END:VEVENT
END:VCALENDAR